Package: scider Version: 1.7.2 Command: rm -rf scider.buildbin-libdir && mkdir scider.buildbin-libdir && /Users/biocbuild/BBS/utils/build-universal.sh scider_1.7.2.tar.gz /Library/Frameworks/R.framework/Resources/bin/R scider.buildbin-libdir StartedAt: 2025-10-08 02:40:52 -0400 (Wed, 08 Oct 2025) EndedAt: 2025-10-08 02:41:47 -0400 (Wed, 08 Oct 2025) EllapsedTime: 54.4 seconds RetCode: 0 Status: OK PackageFile: scider_1.7.2.tgz PackageFileSize: 3.457 MiB