Package: scider Version: 1.7.3 Maintainer: Yunshun Chen MaintainerEmail: yuchen at wehi.edu.au git_url: https://git.bioconductor.org/packages/scider git_branch: devel git_last_commit: d9229d0 git_last_commit_date: 2025-10-14 14:58:38 -0400 (Tue, 14 Oct 2025)