Package: schex Version: 1.23.0 Command: chmod a+r schex -R && F:\biocbuild\bbs-3.22-bioc\R\bin\R.exe CMD build --keep-empty-dirs --no-resave-data schex StartedAt: 2025-08-14 23:03:36 -0400 (Thu, 14 Aug 2025) EndedAt: 2025-08-14 23:06:15 -0400 (Thu, 14 Aug 2025) EllapsedTime: 159.1 seconds RetCode: 0 Status: OK PackageFile: schex_1.23.0.tar.gz PackageFileSize: 2.892 MiB