Package: schex Version: 1.25.0 Command: /home/biocbuild/bbs-3.23-bioc/R/bin/R CMD INSTALL schex StartedAt: 2025-10-31 15:31:09 -0400 (Fri, 31 Oct 2025) EndedAt: 2025-10-31 15:31:35 -0400 (Fri, 31 Oct 2025) EllapsedTime: 25.7 seconds RetCode: 0 Status: OK