Package: schex Version: 1.25.0 Command: /home/biocbuild/bbs-3.23-bioc/R/bin/R CMD check --install=check:schex.install-out.txt --library=/home/biocbuild/bbs-3.23-bioc/R/site-library --timings schex_1.25.0.tar.gz StartedAt: 2025-11-01 03:14:53 -0400 (Sat, 01 Nov 2025) EndedAt: 2025-11-01 03:23:00 -0400 (Sat, 01 Nov 2025) EllapsedTime: 487.5 seconds RetCode: 0 Status: OK CheckDir: schex.Rcheck Warnings: 0