Package: schex Version: 1.25.0 Command: /home/biocbuild/bbs-3.23-bioc/R/bin/R CMD build --keep-empty-dirs --no-resave-data schex StartedAt: 2025-10-31 20:00:48 -0400 (Fri, 31 Oct 2025) EndedAt: 2025-10-31 20:02:36 -0400 (Fri, 31 Oct 2025) EllapsedTime: 108.1 seconds RetCode: 0 Status: OK PackageFile: schex_1.25.0.tar.gz PackageFileSize: 3.231 MiB