Package: scds Version: 1.25.1 Command: /home/biocbuild/R/R/bin/R CMD INSTALL scds StartedAt: 2025-10-23 20:38:42 -0000 (Thu, 23 Oct 2025) EndedAt: 2025-10-23 20:39:12 -0000 (Thu, 23 Oct 2025) EllapsedTime: 31.0 seconds RetCode: 0 Status: OK