Package: scds Version: 1.25.1 Command: /home/biocbuild/bbs-3.22-bioc/R/bin/R CMD check --install=check:scds.install-out.txt --library=/home/biocbuild/bbs-3.22-bioc/R/site-library --timings scds_1.25.1.tar.gz StartedAt: 2025-10-25 03:46:54 -0400 (Sat, 25 Oct 2025) EndedAt: 2025-10-25 03:50:41 -0400 (Sat, 25 Oct 2025) EllapsedTime: 227.2 seconds RetCode: 0 Status: OK CheckDir: scds.Rcheck Warnings: 0