Package: scds Version: 1.27.0 Command: /home/biocbuild/bbs-3.23-bioc/R/bin/R CMD INSTALL scds StartedAt: 2025-11-05 15:25:47 -0500 (Wed, 05 Nov 2025) EndedAt: 2025-11-05 15:26:10 -0500 (Wed, 05 Nov 2025) EllapsedTime: 23.0 seconds RetCode: 0 Status: OK