Package: scds Version: 1.27.0 Command: /home/biocbuild/bbs-3.23-bioc/R/bin/R CMD build --keep-empty-dirs --no-resave-data scds StartedAt: 2025-11-05 19:52:21 -0500 (Wed, 05 Nov 2025) EndedAt: 2025-11-05 19:53:34 -0500 (Wed, 05 Nov 2025) EllapsedTime: 73.1 seconds RetCode: 0 Status: OK PackageFile: scds_1.27.0.tar.gz PackageFileSize: 1.383 MiB