Package: scds Version: 1.25.0 Command: /Library/Frameworks/R.framework/Resources/bin/R CMD INSTALL scds StartedAt: 2025-10-01 15:20:46 -0400 (Wed, 01 Oct 2025) EndedAt: 2025-10-01 15:21:19 -0400 (Wed, 01 Oct 2025) EllapsedTime: 33.7 seconds RetCode: 0 Status: OK