Package: scds Version: 1.25.0 Command: /Library/Frameworks/R.framework/Resources/bin/R CMD build --keep-empty-dirs --no-resave-data scds StartedAt: 2025-09-30 18:39:58 -0400 (Tue, 30 Sep 2025) EndedAt: 2025-09-30 18:41:09 -0400 (Tue, 30 Sep 2025) EllapsedTime: 70.8 seconds RetCode: 0 Status: OK PackageFile: scds_1.25.0.tar.gz PackageFileSize: 1.39 MiB