Package: scds Version: 1.25.1 Maintainer: Dennis Kostka MaintainerEmail: kostka at pitt.edu git_url: https://git.bioconductor.org/packages/scds git_branch: devel git_last_commit: c75fb2d git_last_commit_date: 2025-10-14 14:58:23 -0400 (Tue, 14 Oct 2025)