Package: scde Version: 2.37.0 Command: /home/biocbuild/bbs-3.22-bioc/R/bin/R CMD INSTALL scde StartedAt: 2025-10-20 15:11:50 -0400 (Mon, 20 Oct 2025) EndedAt: 2025-10-20 15:12:42 -0400 (Mon, 20 Oct 2025) EllapsedTime: 52.1 seconds RetCode: 0 Status: OK