Package: scde Version: 2.37.0 Command: /home/biocbuild/bbs-3.22-bioc/R/bin/R CMD check --install=check:scde.install-out.txt --library=/home/biocbuild/bbs-3.22-bioc/R/site-library --timings scde_2.37.0.tar.gz StartedAt: 2025-10-22 04:25:13 -0400 (Wed, 22 Oct 2025) EndedAt: 2025-10-22 04:27:58 -0400 (Wed, 22 Oct 2025) EllapsedTime: 165.1 seconds RetCode: 0 Status: WARNINGS CheckDir: scde.Rcheck Warnings: 3