Package: scde Version: 2.39.0 Command: /home/biocbuild/bbs-3.23-bioc/R/bin/R CMD INSTALL scde StartedAt: 2025-11-07 15:13:05 -0500 (Fri, 07 Nov 2025) EndedAt: 2025-11-07 15:13:59 -0500 (Fri, 07 Nov 2025) EllapsedTime: 53.3 seconds RetCode: 0 Status: OK