Package: scde Version: 2.37.0 Command: rm -rf scde.buildbin-libdir && mkdir scde.buildbin-libdir && /Users/biocbuild/BBS/utils/build-universal.sh scde_2.37.0.tar.gz /Library/Frameworks/R.framework/Resources/bin/R scde.buildbin-libdir StartedAt: 2025-10-18 03:20:29 -0400 (Sat, 18 Oct 2025) EndedAt: 2025-10-18 03:21:43 -0400 (Sat, 18 Oct 2025) EllapsedTime: 73.9 seconds RetCode: 0 Status: OK PackageFile: scde_2.37.0.tgz PackageFileSize: 2.168 MiB