Package: scde Version: 2.37.0 Command: /Library/Frameworks/R.framework/Resources/bin/R CMD INSTALL scde StartedAt: 2025-10-17 15:07:02 -0400 (Fri, 17 Oct 2025) EndedAt: 2025-10-17 15:07:18 -0400 (Fri, 17 Oct 2025) EllapsedTime: 16.0 seconds RetCode: 0 Status: OK