Package: scde Version: 2.37.0 Command: rm -rf scde.buildbin-libdir && mkdir scde.buildbin-libdir && /Users/biocbuild/BBS/utils/build-universal.sh scde_2.37.0.tar.gz /Library/Frameworks/R.framework/Resources/bin/R scde.buildbin-libdir StartedAt: 2025-10-16 23:16:35 -0400 (Thu, 16 Oct 2025) EndedAt: 2025-10-16 23:16:52 -0400 (Thu, 16 Oct 2025) EllapsedTime: 17.4 seconds RetCode: 0 Status: OK PackageFile: scde_2.37.0.tgz PackageFileSize: 2.138 MiB