Package: sccomp Version: 2.1.17 Command: /home/biocbuild/R/R/bin/R CMD INSTALL sccomp StartedAt: 2025-10-16 21:32:22 -0000 (Thu, 16 Oct 2025) EndedAt: 2025-10-16 21:33:06 -0000 (Thu, 16 Oct 2025) EllapsedTime: 43.7 seconds RetCode: 0 Status: OK