Package: sccomp Version: 2.1.17 Command: /home/biocbuild/R/R/bin/R CMD build --keep-empty-dirs --no-resave-data sccomp StartedAt: 2025-10-17 04:18:21 -0000 (Fri, 17 Oct 2025) EndedAt: 2025-10-17 04:19:31 -0000 (Fri, 17 Oct 2025) EllapsedTime: 70.1 seconds RetCode: 0 Status: OK PackageFile: sccomp_2.1.17.tar.gz PackageFileSize: 2.696 MiB