Package: sccomp Version: 2.3.0 Command: /home/biocbuild/bbs-3.23-bioc/R/bin/R CMD build --keep-empty-dirs --no-resave-data sccomp StartedAt: 2025-11-21 19:50:28 -0500 (Fri, 21 Nov 2025) EndedAt: 2025-11-21 19:51:18 -0500 (Fri, 21 Nov 2025) EllapsedTime: 50.0 seconds RetCode: 0 Status: OK PackageFile: sccomp_2.3.0.tar.gz PackageFileSize: 2.691 MiB