Package: scatterHatch Version: 1.15.0 Command: /home/biocbuild/bbs-3.22-bioc/R/bin/R CMD check --install=check:scatterHatch.install-out.txt --library=/home/biocbuild/bbs-3.22-bioc/R/site-library --timings scatterHatch_1.15.0.tar.gz StartedAt: 2025-10-10 03:54:54 -0400 (Fri, 10 Oct 2025) EndedAt: 2025-10-10 03:57:00 -0400 (Fri, 10 Oct 2025) EllapsedTime: 126.1 seconds RetCode: 0 Status: OK CheckDir: scatterHatch.Rcheck Warnings: 0