Package: scatterHatch Version: 1.17.0 Command: /home/biocbuild/bbs-3.23-bioc/R/bin/R CMD INSTALL scatterHatch StartedAt: 2025-10-31 15:15:44 -0400 (Fri, 31 Oct 2025) EndedAt: 2025-10-31 15:15:52 -0400 (Fri, 31 Oct 2025) EllapsedTime: 8.3 seconds RetCode: 0 Status: OK