Package: scatterHatch Version: 1.17.0 Command: /home/biocbuild/bbs-3.23-bioc/R/bin/R CMD check --install=check:scatterHatch.install-out.txt --library=/home/biocbuild/bbs-3.23-bioc/R/site-library --timings scatterHatch_1.17.0.tar.gz StartedAt: 2025-11-15 03:39:17 -0500 (Sat, 15 Nov 2025) EndedAt: 2025-11-15 03:41:11 -0500 (Sat, 15 Nov 2025) EllapsedTime: 114.1 seconds RetCode: 0 Status: OK CheckDir: scatterHatch.Rcheck Warnings: 0