Package: scatterHatch Version: 1.17.0 Command: /home/biocbuild/bbs-3.23-bioc/R/bin/R CMD build --keep-empty-dirs --no-resave-data scatterHatch StartedAt: 2025-10-31 19:58:00 -0400 (Fri, 31 Oct 2025) EndedAt: 2025-10-31 19:58:34 -0400 (Fri, 31 Oct 2025) EllapsedTime: 34.0 seconds RetCode: 0 Status: OK PackageFile: scatterHatch_1.17.0.tar.gz PackageFileSize: 3.048 MiB