Package: scater Version: 1.37.0 Command: /home/biocbuild/bbs-3.22-bioc/R/bin/R CMD INSTALL scater StartedAt: 2025-10-16 16:55:46 -0400 (Thu, 16 Oct 2025) EndedAt: 2025-10-16 16:56:17 -0400 (Thu, 16 Oct 2025) EllapsedTime: 30.9 seconds RetCode: 0 Status: OK