Package: scater Version: 1.37.0 Command: /home/biocbuild/bbs-3.22-bioc/R/bin/R CMD check --install=check:scater.install-out.txt --library=/home/biocbuild/bbs-3.22-bioc/R/site-library --timings scater_1.37.0.tar.gz StartedAt: 2025-10-28 03:41:06 -0400 (Tue, 28 Oct 2025) EndedAt: 2025-10-28 03:52:08 -0400 (Tue, 28 Oct 2025) EllapsedTime: 661.9 seconds RetCode: 0 Status: OK CheckDir: scater.Rcheck Warnings: 0