Package: scater Version: 1.39.0 Command: /home/biocbuild/bbs-3.23-bioc/R/bin/R CMD INSTALL scater StartedAt: 2025-11-05 15:59:56 -0500 (Wed, 05 Nov 2025) EndedAt: 2025-11-05 16:00:26 -0500 (Wed, 05 Nov 2025) EllapsedTime: 30.0 seconds RetCode: 0 Status: OK