Package: scater Version: 1.37.0 Command: /Library/Frameworks/R.framework/Resources/bin/R CMD INSTALL scater StartedAt: 2025-10-08 15:34:38 -0400 (Wed, 08 Oct 2025) EndedAt: 2025-10-08 15:34:49 -0400 (Wed, 08 Oct 2025) EllapsedTime: 11.8 seconds RetCode: 0 Status: OK