Package: scanMiRApp Version: 1.17.0 Command: /home/biocbuild/bbs-3.23-bioc/R/bin/R CMD INSTALL scanMiRApp StartedAt: 2025-11-04 15:52:10 -0500 (Tue, 04 Nov 2025) EndedAt: 2025-11-04 15:52:59 -0500 (Tue, 04 Nov 2025) EllapsedTime: 49.1 seconds RetCode: 0 Status: OK