Package: scanMiRApp Version: 1.17.0 Command: /home/biocbuild/bbs-3.23-bioc/R/bin/R CMD check --install=check:scanMiRApp.install-out.txt --library=/home/biocbuild/bbs-3.23-bioc/R/site-library --timings scanMiRApp_1.17.0.tar.gz StartedAt: 2025-11-06 03:27:25 -0500 (Thu, 06 Nov 2025) EndedAt: 2025-11-06 03:34:36 -0500 (Thu, 06 Nov 2025) EllapsedTime: 431.5 seconds RetCode: 0 Status: OK CheckDir: scanMiRApp.Rcheck Warnings: 0