Package: scanMiRApp Version: 1.17.0 Command: /home/biocbuild/bbs-3.23-bioc/R/bin/R CMD build --keep-empty-dirs --no-resave-data scanMiRApp StartedAt: 2025-11-04 19:42:19 -0500 (Tue, 04 Nov 2025) EndedAt: 2025-11-04 19:43:50 -0500 (Tue, 04 Nov 2025) EllapsedTime: 91.3 seconds RetCode: 0 Status: OK PackageFile: scanMiRApp_1.17.0.tar.gz PackageFileSize: 905.8 KiB