Package: scanMiR Version: 1.15.1 Command: F:\biocbuild\bbs-3.22-bioc\R\bin\R.exe CMD INSTALL scanMiR StartedAt: 2025-08-14 16:53:55 -0400 (Thu, 14 Aug 2025) EndedAt: 2025-08-14 16:54:24 -0400 (Thu, 14 Aug 2025) EllapsedTime: 28.5 seconds RetCode: 0 Status: OK