Package: scanMiR Version: 1.15.1 Command: rm -rf scanMiR.buildbin-libdir && mkdir scanMiR.buildbin-libdir && F:\biocbuild\bbs-3.22-bioc\R\bin\R.exe CMD INSTALL --build --library=scanMiR.buildbin-libdir scanMiR_1.15.1.tar.gz StartedAt: 2025-08-15 11:13:49 -0400 (Fri, 15 Aug 2025) EndedAt: 2025-08-15 11:14:18 -0400 (Fri, 15 Aug 2025) EllapsedTime: 29.2 seconds RetCode: 0 Status: OK PackageFile: scanMiR_1.15.1.zip PackageFileSize: 1.266 MiB