Package: scanMiR Version: 1.15.1 Command: /home/biocbuild/bbs-3.22-bioc/R/bin/R CMD check --install=check:scanMiR.install-out.txt --library=/home/biocbuild/bbs-3.22-bioc/R/site-library --timings scanMiR_1.15.1.tar.gz StartedAt: 2025-10-10 03:53:18 -0400 (Fri, 10 Oct 2025) EndedAt: 2025-10-10 03:55:28 -0400 (Fri, 10 Oct 2025) EllapsedTime: 130.2 seconds RetCode: 0 Status: OK CheckDir: scanMiR.Rcheck Warnings: 0