Package: scanMiR Version: 1.17.0 Command: /home/biocbuild/bbs-3.23-bioc/R/bin/R CMD check --install=check:scanMiR.install-out.txt --library=/home/biocbuild/bbs-3.23-bioc/R/site-library --timings scanMiR_1.17.0.tar.gz StartedAt: 2025-11-15 03:38:32 -0500 (Sat, 15 Nov 2025) EndedAt: 2025-11-15 03:40:43 -0500 (Sat, 15 Nov 2025) EllapsedTime: 130.2 seconds RetCode: 0 Status: OK CheckDir: scanMiR.Rcheck Warnings: 0