Package: scafari Version: 1.1.0 Command: /Library/Frameworks/R.framework/Resources/bin/R CMD build --keep-empty-dirs --no-resave-data scafari StartedAt: 2025-11-21 18:31:27 -0500 (Fri, 21 Nov 2025) EndedAt: 2025-11-21 18:35:58 -0500 (Fri, 21 Nov 2025) EllapsedTime: 271.5 seconds RetCode: 0 Status: OK PackageFile: scafari_1.1.0.tar.gz PackageFileSize: 7.769 MiB