Package: scafari Version: 1.1.0 Command: rm -rf scafari.buildbin-libdir && mkdir scafari.buildbin-libdir && /Users/biocbuild/BBS/utils/build-universal.sh scafari_1.1.0.tar.gz /Library/Frameworks/R.framework/Resources/bin/R scafari.buildbin-libdir StartedAt: 2025-11-22 01:55:23 -0500 (Sat, 22 Nov 2025) EndedAt: 2025-11-22 01:56:50 -0500 (Sat, 22 Nov 2025) EllapsedTime: 86.5 seconds RetCode: 0 Status: OK PackageFile: scafari_1.1.0.tgz PackageFileSize: 7.901 MiB