Package: scafari Version: 1.0.0 Command: /Library/Frameworks/R.framework/Resources/bin/R CMD INSTALL scafari StartedAt: 2025-10-29 21:46:23 -0400 (Wed, 29 Oct 2025) EndedAt: 2025-10-29 21:46:48 -0400 (Wed, 29 Oct 2025) EllapsedTime: 24.6 seconds RetCode: 0 Status: OK