Package: scTreeViz Version: 1.17.0 Command: /home/biocbuild/bbs-3.23-bioc/R/bin/R CMD INSTALL scTreeViz StartedAt: 2025-11-05 16:01:39 -0500 (Wed, 05 Nov 2025) EndedAt: 2025-11-05 16:02:46 -0500 (Wed, 05 Nov 2025) EllapsedTime: 67.0 seconds RetCode: 0 Status: OK