Package: scTreeViz Version: 1.17.0 Command: /home/biocbuild/bbs-3.23-bioc/R/bin/R CMD check --install=check:scTreeViz.install-out.txt --library=/home/biocbuild/bbs-3.23-bioc/R/site-library --timings scTreeViz_1.17.0.tar.gz StartedAt: 2025-11-06 03:45:19 -0500 (Thu, 06 Nov 2025) EndedAt: 2025-11-06 03:54:58 -0500 (Thu, 06 Nov 2025) EllapsedTime: 578.9 seconds RetCode: 0 Status: OK CheckDir: scTreeViz.Rcheck Warnings: 0