Package: scTensor Version: 2.19.2 Command: /home/biocbuild/R/R/bin/R CMD INSTALL scTensor StartedAt: 2025-10-09 21:54:07 -0000 (Thu, 09 Oct 2025) EndedAt: 2025-10-09 21:55:17 -0000 (Thu, 09 Oct 2025) EllapsedTime: 70.0 seconds RetCode: 0 Status: OK