Package: scTensor Version: 2.19.2 Command: /home/biocbuild/R/R/bin/R CMD build --keep-empty-dirs --no-resave-data scTensor StartedAt: 2025-10-10 04:02:38 -0000 (Fri, 10 Oct 2025) EndedAt: 2025-10-10 04:05:22 -0000 (Fri, 10 Oct 2025) EllapsedTime: 164.1 seconds RetCode: 0 Status: OK PackageFile: scTensor_2.19.2.tar.gz PackageFileSize: 10.38 MiB