Package: scTensor Version: 2.19.2 Command: /home/biocbuild/bbs-3.22-bioc/R/bin/R CMD check --install=check:scTensor.install-out.txt --library=/home/biocbuild/bbs-3.22-bioc/R/site-library --timings scTensor_2.19.2.tar.gz StartedAt: 2025-10-01 04:02:13 -0400 (Wed, 01 Oct 2025) EndedAt: 2025-10-01 04:09:38 -0400 (Wed, 01 Oct 2025) EllapsedTime: 445.4 seconds RetCode: 0 Status: WARNINGS CheckDir: scTensor.Rcheck Warnings: 1