Package: scTensor Version: 2.21.0 Command: /home/biocbuild/bbs-3.23-bioc/R/bin/R CMD check --install=check:scTensor.install-out.txt --library=/home/biocbuild/bbs-3.23-bioc/R/site-library --timings scTensor_2.21.0.tar.gz StartedAt: 2025-11-07 03:34:34 -0500 (Fri, 07 Nov 2025) EndedAt: 2025-11-07 03:42:20 -0500 (Fri, 07 Nov 2025) EllapsedTime: 465.6 seconds RetCode: 0 Status: WARNINGS CheckDir: scTensor.Rcheck Warnings: 1