Package: scTensor Version: 2.21.0 Command: /home/biocbuild/bbs-3.23-bioc/R/bin/R CMD build --keep-empty-dirs --no-resave-data scTensor StartedAt: 2025-11-04 19:52:33 -0500 (Tue, 04 Nov 2025) EndedAt: 2025-11-04 19:54:24 -0500 (Tue, 04 Nov 2025) EllapsedTime: 110.1 seconds RetCode: 0 Status: OK PackageFile: scTensor_2.21.0.tar.gz PackageFileSize: 10.31 MiB