Package: scTHI Version: 1.21.0 Command: /home/biocbuild/bbs-3.22-bioc/R/bin/R CMD check --install=check:scTHI.install-out.txt --library=/home/biocbuild/bbs-3.22-bioc/R/site-library --timings scTHI_1.21.0.tar.gz StartedAt: 2025-10-16 04:48:29 -0400 (Thu, 16 Oct 2025) EndedAt: 2025-10-16 04:50:18 -0400 (Thu, 16 Oct 2025) EllapsedTime: 109.1 seconds RetCode: 0 Status: OK CheckDir: scTHI.Rcheck Warnings: 0