Package: scTHI Version: 1.23.0 Command: /home/biocbuild/bbs-3.23-bioc/R/bin/R CMD build --keep-empty-dirs --no-resave-data scTHI StartedAt: 2025-11-07 19:55:34 -0500 (Fri, 07 Nov 2025) EndedAt: 2025-11-07 19:56:35 -0500 (Fri, 07 Nov 2025) EllapsedTime: 61.0 seconds RetCode: 0 Status: OK PackageFile: scTHI_1.23.0.tar.gz PackageFileSize: 712 KiB