Package: scTGIF Version: 1.25.0 Command: /home/biocbuild/bbs-3.23-bioc/R/bin/R CMD INSTALL scTGIF StartedAt: 2025-11-20 15:29:42 -0500 (Thu, 20 Nov 2025) EndedAt: 2025-11-20 15:30:18 -0500 (Thu, 20 Nov 2025) EllapsedTime: 36.1 seconds RetCode: 0 Status: OK